BEGIN:VCALENDAR
VERSION:2.0
PRODID:-//Kunstverein Erding e.V. - ECPv6.8.3//NONSGML v1.0//EN
CALSCALE:GREGORIAN
METHOD:PUBLISH
X-ORIGINAL-URL:https://kunstverein-erding.de
X-WR-CALDESC:Veranstaltungen für Kunstverein Erding e.V.
REFRESH-INTERVAL;VALUE=DURATION:PT1H
X-Robots-Tag:noindex
X-PUBLISHED-TTL:PT1H
BEGIN:VTIMEZONE
TZID:Europe/Berlin
BEGIN:DAYLIGHT
TZOFFSETFROM:+0100
TZOFFSETTO:+0200
TZNAME:CEST
DTSTART:20260329T010000
END:DAYLIGHT
BEGIN:STANDARD
TZOFFSETFROM:+0200
TZOFFSETTO:+0100
TZNAME:CET
DTSTART:20261025T010000
END:STANDARD
END:VTIMEZONE
BEGIN:VEVENT
DTSTART;VALUE=DATE:20261009
DTEND;VALUE=DATE:20261019
DTSTAMP:20260421T160602
CREATED:20260305T155338Z
LAST-MODIFIED:20260305T155338Z
UID:4550-1791504000-1792367999@kunstverein-erding.de
SUMMARY:Ausstellung „Junge Kunst“ 2026
DESCRIPTION:Die Ausstellung „Junge Kunst“ geht in die zweite Runde: Nach der erfolgreichen ersten Ausgabe präsentieren wir voraussichtlich auch 2026 wieder neue Werke und frische Ideen junger Künstlerinnen und Künstler. \nVom 9. bis 18. Oktober 2026 ist geplant\, dass das Frauenkircherl erneut zum Raum für zeitgenössische Positionen\, experimentelle Ansätze und kreative Perspektiven der jungen Kunstszene. Besucherinnen und Besucher dürfen sich auf eine vielfältige Auswahl aktueller Arbeiten freuen. \nDie Veranstaltung und auch der Zeitraum befindet sich noch in der Planung\, weitere konkrete Informationen folgen.
URL:https://kunstverein-erding.de/event/ausstellung-junge-kunst-2026/
LOCATION:Frauenkircherl Erding\, Schrannenplatz 2\, Erding\, Bayern\, Deutschland
CATEGORIES:Ausstellung
ATTACH;FMTTYPE=image/jpeg:https://kunstverein-erding.de/wp-content/uploads/2020/11/Button_KVE.jpg
ORGANIZER;CN="Kunstverein Erding e.V.":MAILTO:info@kunstverein-erding.de
END:VEVENT
BEGIN:VEVENT
DTSTART;TZID=Europe/Berlin:20261020T190000
DTEND;TZID=Europe/Berlin:20261020T210000
DTSTAMP:20260421T160602
CREATED:20260305T153643Z
LAST-MODIFIED:20260305T154710Z
UID:4520-1792522800-1792530000@kunstverein-erding.de
SUMMARY:Mitgliedertreffen Oktober 2026
DESCRIPTION:Ein fester Bestandteil der Monatstreffen ist der „Art Talk“ sein. In jedem Treffen kann (nach Anmeldung) ein eigenes Werk vorgestellt werden. Der Künstler und die Künstlerin können dazu ein paar Worte zur Entstehung und Motivation verlieren. Anschließend könnt Ihr das Werk von den Mitgliedern diskutieren lassen. \nDiese Treffen sind ansonsten für den fachlichen Austausch\, Planungen von Veranstaltungen und den Zusammenhalt der Vereins.\nInteressierte sind herzlich willkommen! \n  \nUnsere Monatstreffen sind geplant für folgende Termine:\n20.10\, 17.11 und 15.12.2026\nAbweichungen werden auf der Website bei den entsprechenden Terminen angepasst. \n  \nFalls Sie Mitglied werden möchten: \n\nMitglied werden \n\nInformationen über die Mitglieder finden sie hier: \n\nMitglieder
URL:https://kunstverein-erding.de/event/mitgliedertreffen-oktober-2025/
LOCATION:Geschäftsstelle Kunstverein Erding e.V.\, Am Rätschenbach 12\, Erding\, Bayern\, 85435\, Deutschland
CATEGORIES:Mitgliedertreffen
ATTACH;FMTTYPE=image/jpeg:https://kunstverein-erding.de/wp-content/uploads/2020/11/Erding-9588.jpg
ORGANIZER;CN="Kunstverein Erding e.V.":MAILTO:info@kunstverein-erding.de
END:VEVENT
END:VCALENDAR