BEGIN:VCALENDAR
VERSION:2.0
PRODID:-//Kunstverein Erding e.V. - ECPv6.8.3//NONSGML v1.0//EN
CALSCALE:GREGORIAN
METHOD:PUBLISH
X-ORIGINAL-URL:https://kunstverein-erding.de
X-WR-CALDESC:Veranstaltungen für Kunstverein Erding e.V.
REFRESH-INTERVAL;VALUE=DURATION:PT1H
X-Robots-Tag:noindex
X-PUBLISHED-TTL:PT1H
BEGIN:VTIMEZONE
TZID:Europe/Berlin
BEGIN:DAYLIGHT
TZOFFSETFROM:+0100
TZOFFSETTO:+0200
TZNAME:CEST
DTSTART:20260329T010000
END:DAYLIGHT
BEGIN:STANDARD
TZOFFSETFROM:+0200
TZOFFSETTO:+0100
TZNAME:CET
DTSTART:20261025T010000
END:STANDARD
END:VTIMEZONE
BEGIN:VEVENT
DTSTART;VALUE=DATE:20260731
DTEND;VALUE=DATE:20260817
DTSTAMP:20260425T205440
CREATED:20260212T090532Z
LAST-MODIFIED:20260422T100513Z
UID:4397-1785456000-1786924799@kunstverein-erding.de
SUMMARY:Jahresausstellung 2026 „Im Farbenrausch“
DESCRIPTION:Das Thema „Im Farbenrausch“ mag auf den ersten Blick als alltägliche Thematik erscheinen\, die schnell mit einfachen Assoziationen wie Schönheit oder Stimmung verknüpft wird. Doch unter der Oberfläche verbirgt sich eine tiefgreifende und reichhaltige Quelle künstlerischer Herausforderungen und Inspiration. Farben sind nicht nur visuelle Elemente; sie tragen emotionale Inhalte und kulturelle Bedeutungen\, die weit über das Gewöhnliche hinausgehen.\nSie beeinflussen unsere Wahrnehmung\, wecken Erinnerungen und formen unsere Identität. \n  \nVernissage:Freitag\, 31. Juli 2026\, 19:00 Uhr \nAusstellung: \n1. August – 16. August 2026Täglich von 13:00 bis 19:00 Uhr geöffnet\nFrauenkircherl Erding \n  \nEinreichungen sind möglich online und offline unter: \n\nEinreichung für Jahresausstellung 2026 „(Im Farbenrausch)“ \n\n  \nHier finden sie als pdf:\ndie 01_KVE_Ausschreibung_JA26\,\ndie 02_KVE_Ausstellungsbedingungen_JA26.
URL:https://kunstverein-erding.de/event/jahresausstellung-2026-farbenrausch-voraussichtlicher-termin/
LOCATION:Frauenkircherl Erding\, Schrannenplatz 2\, Erding\, Bayern\, Deutschland
CATEGORIES:Ausstellung,Jahresausstellung
ATTACH;FMTTYPE=image/jpeg:https://kunstverein-erding.de/wp-content/uploads/2026/02/Farbenrausch-banner.jpg
ORGANIZER;CN="Kunstverein Erding e.V.":MAILTO:info@kunstverein-erding.de
END:VEVENT
END:VCALENDAR