BEGIN:VCALENDAR
VERSION:2.0
PRODID:-//Kunstverein Erding e.V. - ECPv6.8.3//NONSGML v1.0//EN
CALSCALE:GREGORIAN
METHOD:PUBLISH
X-ORIGINAL-URL:https://kunstverein-erding.de
X-WR-CALDESC:Veranstaltungen für Kunstverein Erding e.V.
REFRESH-INTERVAL;VALUE=DURATION:PT1H
X-Robots-Tag:noindex
X-PUBLISHED-TTL:PT1H
BEGIN:VTIMEZONE
TZID:Europe/Berlin
BEGIN:DAYLIGHT
TZOFFSETFROM:+0100
TZOFFSETTO:+0200
TZNAME:CEST
DTSTART:20250330T010000
END:DAYLIGHT
BEGIN:STANDARD
TZOFFSETFROM:+0200
TZOFFSETTO:+0100
TZNAME:CET
DTSTART:20251026T010000
END:STANDARD
END:VTIMEZONE
BEGIN:VEVENT
DTSTART;TZID=Europe/Berlin:20251209T190000
DTEND;TZID=Europe/Berlin:20251209T213000
DTSTAMP:20260420T025648
CREATED:20250208T145631Z
LAST-MODIFIED:20260305T092614Z
UID:4063-1765306800-1765315800@kunstverein-erding.de
SUMMARY:Mitgliedertreffen / Weihnachtsfeier Dezember 2025
DESCRIPTION:Die Weihnachtsfeier des Kunstvereins\, meist mit Glühwein und Gebäck und einem Jahresrückblick. Für unsere Weihnachtsfeier werden wir in diesem Jahr von Claudia Taub bekocht. Wir freuen uns sehr auf Rehgulasch mit Knödeln. Für Vegetarier wird auch gesorgt. Details folgen noch. \nDiese Treffen sind ansonsten für den fachlichen Austausch\, Planungen von Veranstaltungen und den Zusammenhalt der Vereins.\nInteressierte sind herzlich willkommen! \n  \nFalls Sie Mitglied werden möchten: \n\nMitglied werden \n\nInformationen über die Mitglieder finden sie hier: \n\nMitglieder
URL:https://kunstverein-erding.de/event/4063/
LOCATION:Geschäftsstelle Kunstverein Erding e.V.\, Am Rätschenbach 12\, Erding\, Bayern\, 85435\, Deutschland
CATEGORIES:Mitgliedertreffen
ATTACH;FMTTYPE=image/jpeg:https://kunstverein-erding.de/wp-content/uploads/2020/11/Erding-9588.jpg
ORGANIZER;CN="Kunstverein Erding e.V.":MAILTO:info@kunstverein-erding.de
END:VEVENT
END:VCALENDAR