BEGIN:VCALENDAR
VERSION:2.0
PRODID:-//Kunstverein Erding e.V. - ECPv6.8.3//NONSGML v1.0//EN
CALSCALE:GREGORIAN
METHOD:PUBLISH
X-WR-CALNAME:Kunstverein Erding e.V.
X-ORIGINAL-URL:https://kunstverein-erding.de
X-WR-CALDESC:Veranstaltungen für Kunstverein Erding e.V.
REFRESH-INTERVAL;VALUE=DURATION:PT1H
X-Robots-Tag:noindex
X-PUBLISHED-TTL:PT1H
BEGIN:VTIMEZONE
TZID:Europe/Berlin
BEGIN:DAYLIGHT
TZOFFSETFROM:+0100
TZOFFSETTO:+0200
TZNAME:CEST
DTSTART:20220327T010000
END:DAYLIGHT
BEGIN:STANDARD
TZOFFSETFROM:+0200
TZOFFSETTO:+0100
TZNAME:CET
DTSTART:20221030T010000
END:STANDARD
END:VTIMEZONE
BEGIN:VEVENT
DTSTART;VALUE=DATE:20220815
DTEND;VALUE=DATE:20220829
DTSTAMP:20260420T003941
CREATED:20220506T121505Z
LAST-MODIFIED:20220830T135200Z
UID:2777-1660521600-1661731199@kunstverein-erding.de
SUMMARY:Jahresausstellung 2022 "Reflex\, Reflexion\, Reflexionen"
DESCRIPTION:Jahresausstellung 2022 Kunstverein Erding e.V. / 15. bis 28. August 2022\nIm Frauenkircherl Erding\, Schrannenplatz 3\, 85435 Erding \nDie Jahresausstellung des Erdinger Kunstvereins steht dieses Jahr unter dem Motto „Reflex/Reflexion/Reflexionen“. Die jurierte Ausstellung zeigt Werke ausm allen Bereichen der bildenden Kunst und wird von Mitgliedern des Vereins\, Künstlern aus ganz Bayern oder solchen\, die eine besondere Beziehung zum Verein haben\, bestritten.\nBei der Vernissage am 15.08. um 18 Uhr wird wieder der von einem externen Preisgericht zugesprochene Kunstpreis (1. Preis 750 €\, 2. Preis 500 € und 3.Preis 250 €) überreicht. Zur Ausstellung erscheint ein hochwertiger Katalog. Die Ausstellung ist bei freiem Eintritt täglich von 13 bis 19 Uhr geöffnet. \n\nEinreichungen:\n\nam 01.07.2022 von 15:00 bis 20:00 im Bauernhausmuseum Erding\,\nTaufkirchener Str. 24\, 85435 Erding\nmaximal 3 Werke pro Mitglied\nWeitere Bedingungen und Informationen entnehmen Sie bitte den „Ausschreibungsbedingungen“\nFolgende Formulare sind auszufüllen und an den Vorstand zu übergeben (Download wir zeitnah freigeschaltet):\n\nAusschreibungsbedingungen\nEinreichungsformular\nEinreichungsabschnitte\n\n\n\n  \n\nKontakt:\nKunstverein Erding e.V.\,\nGeschäftsstelle: Am Rätschenbach 12\,\n85435 Erding\,\ninfo@kunstverein-erding.de\,\nwww.kunstverein-erding.de
URL:https://kunstverein-erding.de/event/jahresausstellung-2022-reflex-reflexion-reflexionen/
LOCATION:Frauenkircherl Erding\, Schrannenplatz 2\, Erding\, Bayern\, Deutschland
CATEGORIES:Ausstellung
ATTACH;FMTTYPE=image/jpeg:https://kunstverein-erding.de/wp-content/uploads/2022/08/Reflex_Reflexion_Reflexionen_1.jpg
ORGANIZER;CN="Kunstverein Erding e.V.":MAILTO:info@kunstverein-erding.de
END:VEVENT
END:VCALENDAR